Workbook
Name Adjusted_regulated_tax_liability: 'R8 - Tax'!$E$36:$I$36
Name Adjusted_regulated_tax_liability__Reporting_Year: 'R8 - Tax'!$E$36:$I$36
Name ARCMt: '[4]R4 Licence Condition Values'!$G$32:$N$32
Name ARtDR5: '[4]R5 Input Page'!$E$48:$F$48
Name AUM: '[4]R5 Input Page'!$G$133:$N$133
Name BMt_2: '[4]R5 Input Page'!$E$65:$F$65
Name BPC: '[4]R5 Input Page'!$G$123:$N$123
Name Business_Plan_Incentive: 'R1 - RoRE'!$D$71:$H$71
Name calendar_year: Data!$F$33:$L$33
Name CAS: '[4]R5 Input Page'!$G$70:$N$70
Name CGSPM: '[4]R5 Input Page'!$G$136:$N$136
Name CGSRA: '[4]R11 Connections Performance'!$G$18:$N$18
Name CIA: '[4]R5 Input Page'!$G$82:$N$82
Name CIB: '[4]R5 Input Page'!$G$83:$N$83
Name CIBt_2: '[4]R5 Input Page'!$G$87:$N$87
Name CIBt_3: '[4]R5 Input Page'!$G$88:$N$88
Name CIBt_4: '[4]R5 Input Page'!$G$89:$N$89
Name CIC: '[4]R5 Input Page'!$G$84:$N$84
Name CID: '[4]R5 Input Page'!$G$85:$N$85
Name CIE: '[4]R5 Input Page'!$G$86:$N$86
Name CIM: '[4]R5 Input Page'!$G$71:$N$71
Name CMLA: '[4]R5 Input Page'!$G$90:$N$90
Name CMLB: '[4]R5 Input Page'!$G$91:$N$91
Name CMLBt_2: '[4]R5 Input Page'!$G$95:$N$95
Name CMLBt_3: '[4]R5 Input Page'!$G$96:$N$96
Name CMLBt_4: '[4]R5 Input Page'!$G$97:$N$97
Name CMLC: '[4]R5 Input Page'!$G$92:$N$92
Name CMLD: '[4]R5 Input Page'!$G$93:$N$93
Name CMLE: '[4]R5 Input Page'!$G$94:$N$94
Name Combined_real_to_nominal_prices_conversion_factor__financial_year_end: Data!$F$36:$L$36
Name Corporate_Tax: Data!$C$13:$N$13
Name Cost_of_Equity: Data!$C$6
Name CPIRt: '[4]R4 Licence Condition Values'!$G$29:$N$29
Name CRC5B: '[4]R5 Input Page'!$G$139:$N$139
Name CRC5C: '[4]R5 Input Page'!$G$140:$N$140
Name CRC5E: '[4]R5 Input Page'!$G$141:$N$141
Name CRIRt: '[4]R4 Licence Condition Values'!$G$22:$N$22
Name CSADt: '[4]R4 Licence Condition Values'!$G$25:$N$25
Name CSAUt: '[4]R4 Licence Condition Values'!$G$19:$N$19
Name CSBDt: '[4]R4 Licence Condition Values'!$G$28:$N$28
Name CSBUt: '[4]R4 Licence Condition Values'!$G$21:$N$21
Name CSCDt: '[4]R4 Licence Condition Values'!$G$30:$N$30
Name CSCUt: '[4]R4 Licence Condition Values'!$G$23:$N$23
Name CT: '[4]R5 Input Page'!$G$35:$N$35
Name Debt_performance___at_notional_gearing: 'R1 - RoRE'!$D$90:$H$90
Name Debt_performance___impact_of_actual_gearing: 'R1 - RoRE'!$D$91:$H$91
Name DecimalPlaces: '[7]Check Sheet'!$K$9
Name DLGT: '[4]R12 DPCR4 Losses and Growth'!$G$9:$N$9
Name DNOName: '[7]Cover Sheet'!$D$20:$D$33
Name DR5Q: '[4]R5 Input Page'!$E$81:$F$81
Name ENIA: '[4]R5 Input Page'!$G$122:$N$122
Name Equity_RAV_based_on_actual_gearing: 'R1 - RoRE'!$D$97:$H$97
Name Equity_Return_on_the_RAV: 'R1 - RoRE'!$D$69:$H$69
Name ESTR: '[4]R4 Licence Condition Values'!$G$7:$N$7
Name FPPR: '[4]R5 Input Page'!$G$100:$N$100
Name GAS: '[4]R5 Input Page'!$G$72:$N$72
Name GIM: '[4]R5 Input Page'!$G$73:$N$73
Name GPIRt: '[4]R4 Licence Condition Values'!$G$31:$N$31
Name GRIRt: '[4]R4 Licence Condition Values'!$G$24:$N$24
Name GTA: '[4]R12 DPCR4 Losses and Growth'!$G$15:$N$15

Sheet RFPR cover
A2: Regulatory Financial Performance Report
A3: =Licensee -> NGED-SWALES
B6: RIIO-2 start date (enter 2022 for 2021-22) | C6: {=INDEX(Data!$E$63:'Data'!$E$91,MATCH(Licensee,Data!$B$63:$B$91,0),0)} -> 2024
B7: Licensee | C7: NGED-SWALES | G7: Input cells
B8: Sector | C8: =INDEX(Data!$A$63:$A$91,MATCH($C$7,Data!$B$63:$B$91,0),0)&"2" -> ED2 | G8: Totals cells (of formula within worksheet)
B9: Reporting Year: (e.g. enter 2022 for 2021-22) | C9: 2026 | G9: Linked cells
B10: Version (Number) | C10: 1 | G10: Referencing to other workbooks (Eg. PCFM/ RRP)
B11: Submitted Date: | C11: 46295 | G11: Check cells
G12: No Input
G13: Descriptions and pack data

Sheet Data
A1: Network Operator Data
A2: =Licensee -> NGED-SWALES
A3: =Reporting_Year -> 2026
B6: Cost of Equity | C6: =INDEX(O63:U91,MATCH(Licensee,Data!B63:B91,0),MATCH(Reporting_Year,Data!O62:U62,0)) -> 0.054475396 | F6: check £m | H6: ED | I6: £m 20/21
B7: Sharing Factor | C7: =SUMIF(Data!$B$62:$B$91,'RFPR cover'!C7,Data!$C$62:$C$91) -> 0.5 | F7: 0.1 | H7: ET | I7: £m 18/19
B8: Notional Gearing | C8: =SUMIF(Data!$B$62:$B$91,'RFPR cover'!C7,Data!$D$62:$D$91) -> 0.6 | H8: GD | I8: £m 18/19
B9: Price basis | C9: =INDEX(Data!$F$63:$F$91,MATCH('RFPR cover'!$C$7,Data!$B$63:$B$91,0),0) -> £m 20/21 | H9: GT | I9: £m 18/19
B10: Deadband threshold for materiality checks for use in R8a (Rows 31-93) | C10: =INDEX(Data!$M$315:$S$343,MATCH('RFPR cover'!$C$7,Data!$L$315:$L$343,0),MATCH(#REF!,Data!$M$314:$S$314,0)) -> #REF! | H10: ESO | I10: £m 18/19
B11: Deadband threshold for use in R8a (Row 95) | C11: =INDEX(Data!$M$350:$S$378,MATCH('RFPR cover'!$C$7,Data!$L$350:$L$378,0),MATCH(#REF!,Data!$M$349:$S$349,0)) -> #REF!
B13: Corporate Tax | C13: 0.19 | D13: 0.19 | E13: 0.19 | F13: 0.19 | G13: 0.19 | H13: 0.25 | I13: 0.25 | J13: 0.25 | K13: 0.25 | L13: 0.25 | M13: 0.25 | N13: 0.25
A15: GD&T | B15: Price indices*
B16: Actual / Forecast index | C16: =IF(VALUE(C18)<=Reporting_Year,"Actual","Forecast") -> Actual | D16: =IF(VALUE(D18)<=Reporting_Year,"Actual","Forecast") -> Actual | E16: =IF(VALUE(E18)<=Reporting_Year,"Actual","Forecast") -> Actual | F16: =IF(VALUE(F18)<=Reporting_Year,"Actual","Forecast") -> Actual | G16: =IF(VALUE(G18)<=Reporting_Year,"Actual","Forecast") -> Actual | H16: =IF(VALUE(H18)<=Reporting_Year,"Actual","Forecast") -> Actual | I16: =IF(VALUE(I18)<=Reporting_Year,"Actual","Forecast") -> Actual | J16: =IF(VALUE(J18)<=Reporting_Year,"Actual","Forecast") -> Actual | ... N16: =IF(VALUE(N18)<=Reporting_Year,"Actual","Forecast") -> Forecast
B17: Year end | C17: 43555 | D17: 43921 | E17: 44286 | F17: 44651 | G17: 45016 | H17: 45382 | I17: 45747 | J17: 46112 | K17: 46477 | L17: 46843 | M17: 47208 | N17: 47573
B18: Reporting Year | C18: 2019 | D18: 2020 | E18: 2021 | F18: 2022 | G18: 2023 | H18: 2024 | I18: 2025 | J18: 2026 | K18: 2027 | L18: 2028 | M18: 2029 | N18: 2030
B19: Financial Year Average RPI - CPIH (PIt) | C19: 283.30833 | D19: 290.64167 | E19: 294.16667 | F19: 307.32821 | G19: 334.29358 | H19: 352.83652 | I19: 364.17963 | J19: 374.87823 | K19: =J19*(1+K$22) -> 382.3758 | L19: =K19*(1+L$22) -> 390.02332 | M19: =L19*(1+M$22) -> 397.82378 | N19: =M19*(1+N$22) -> 405.78026
B20: Combined RPI-CPIH price index (financial year end) | C20: 286.65 | D20: 292.6 | E20: 298.42363 | F20: 319.91658 | G20: 346.54233 | H20: 358.36091 | I20: 370.25983 | J20: 378.51933 | K20: =J20*(1+K$22) -> 386.08972 | L20: =K20*(1+L$22) -> 393.81152 | M20: =L20*(1+M$22) -> 401.68775 | N20: =M20*(1+N$22) -> 409.7215
B21: Consumer Prices Index incl. housing costs (financial year average) | C21: 106.43333 | D21: 108.24167 | E21: 109.10833 | F21: 113.11667 | G21: 123.04167 | H21: 129.86667 | I21: 134.04167 | J21: 137.97944 | K21: =J21*(1+K$22) -> 140.73903 | L21: =K21*(1+L$22) -> 143.55381 | M21: =L21*(1+M$22) -> 146.42489 | N21: =M21*(1+N$22) -> 149.35339
B22: Long term CPIH inflation forecast | K22: 0.02 | L22: 0.02 | M22: 0.02 | N22: 0.02 | O22: LTCPIHt
A24: ED2 | B24: Price Indices*
B25: Actual / Forecast index | C25: =IF(VALUE(C27)<=Reporting_Year,"Actual","Forecast") -> Actual | D25: =IF(VALUE(D27)<=Reporting_Year,"Actual","Forecast") -> Actual | E25: =IF(VALUE(E27)<=Reporting_Year,"Actual","Forecast") -> Actual | F25: =IF(VALUE(F27)<=Reporting_Year,"Actual","Forecast") -> Actual | G25: =IF(VALUE(G27)<=Reporting_Year,"Actual","Forecast") -> Actual | H25: =IF(VALUE(H27)<=Reporting_Year,"Actual","Forecast") -> Actual | I25: =IF(VALUE(I27)<=Reporting_Year,"Actual","Forecast") -> Actual | J25: =IF(VALUE(J27)<=Reporting_Year,"Actual","Forecast") -> Actual | ... N25: =IF(VALUE(N27)<=Reporting_Year,"Actual","Forecast") -> Forecast
B26: Year end | C26: 43555 | D26: 43921 | E26: 44286 | F26: 44651 | G26: 45016 | H26: 45382 | I26: 45747 | J26: 46112 | K26: 46477 | L26: 46843 | M26: 47208 | N26: 47573
B27: Reporting Year | C27: 2019 | D27: 2020 | E27: 2021 | F27: 2022 | G27: 2023 | H27: 2024 | I27: 2025 | J27: 2026 | K27: 2027 | L27: 2028 | M27: 2029 | N27: 2030
B28: Financial Year Average RPI - CPIH (PIt) | C28: 283.30833 | D28: 290.64167 | E28: 294.16667 | F28: 311.15833 | G28: 351.21667 | H28: 376.7165 | I28: 388.82732 | J28: 403.54885 | K28: 415.14146 | L28: 423.32586 | M28: =L28*(1+M$22) -> 431.79238 | N28: =M28*(1+N$22) -> 440.42823
B29: Combined RPI-CPIH price index (financial year end) | C29: 286.65 | D29: 292.6 | E29: 299 | F29: 329.05 | G29: 369.68596 | H29: 382.61478 | I29: 397.11876 | J29: 409.88225 | K29: 419.20303 | L29: 427.13292 | M29: =L29*(1+M$22) -> 435.67557 | N29: =M29*(1+N$22) -> 444.38909
B31: Price Conversion Factors*
E32: =IF(E33<='RFPR cover'!$C$9,"Actuals","Forecast") -> Actuals | F32: =IF(F33<='RFPR cover'!$C$9,"Actuals","Forecast") -> Actuals | G32: =IF(G33<='RFPR cover'!$C$9,"Actuals","Forecast") -> Actuals | H32: =IF(H33<='RFPR cover'!$C$9,"Actuals","Forecast") -> Actuals | I32: =IF(I33<='RFPR cover'!$C$9,"Actuals","Forecast") -> Actuals | J32: =IF(J33<='RFPR cover'!$C$9,"Actuals","Forecast") -> Actuals | K32: =IF(K33<='RFPR cover'!$C$9,"Actuals","Forecast") -> Forecast | L32: =IF(L33<='RFPR cover'!$C$9,"Actuals","Forecast") -> Forecast
E33: 2021 | F33: =E33+1 -> 2022 | G33: =F33+1 -> 2023 | H33: =G33+1 -> 2024 | I33: =H33+1 -> 2025 | J33: =I33+1 -> 2026 | K33: =J33+1 -> 2027 | L33: =K33+1 -> 2028
D34: RPI-CPIH real to nominal prices CF | E34: =IF(SectorCov="ED2",E28/INDEX($C$28:$N$28,MATCH($E$27,$C$27:$N$27,0)),E19/INDEX($C$19:$N$19,MATCH($C$18,$C$18:$N$18,0))) -> 1 | F34: =IF(SectorCov="ED2",F28/INDEX($C$28:$N$28,MATCH($E$27,$C$27:$N$27,0)),F19/INDEX($C$19:$N$19,MATCH($C$18,$C$18:$N$18,0))) -> 1.057762 | G34: =IF(SectorCov="ED2",G28/INDEX($C$28:$N$28,MATCH($E$27,$C$27:$N$27,0)),G19/INDEX($C$19:$N$19,MATCH($C$18,$C$18:$N$18,0))) -> 1.1939377 | H34: =IF(SectorCov="ED2",H28/INDEX($C$28:$N$28,MATCH($E$27,$C$27:$N$27,0)),H19/INDEX($C$19:$N$19,MATCH($C$18,$C$18:$N$18,0))) -> 1.2806227 | I34: =IF(SectorCov="ED2",I28/INDEX($C$28:$N$28,MATCH($E$27,$C$27:$N$27,0)),I19/INDEX($C$19:$N$19,MATCH($C$18,$C$18:$N$18,0))) -> 1.3217926 | J34: =IF(SectorCov="ED2",J28/INDEX($C$28:$N$28,MATCH($E$27,$C$27:$N$27,0)),J19/INDEX($C$19:$N$19,MATCH($C$18,$C$18:$N$18,0))) -> 1.3718375 | K34: =IF(SectorCov="ED2",K28/INDEX($C$28:$N$28,MATCH($E$27,$C$27:$N$27,0)),K19/INDEX($C$19:$N$19,MATCH($C$18,$C$18:$N$18,0))) -> 1.4112458 | L34: =IF(SectorCov="ED2",L28/INDEX($C$28:$N$28,MATCH($E$27,$C$27:$N$27,0)),L19/INDEX($C$19:$N$19,MATCH($C$18,$C$18:$N$18,0))) -> 1.4390681
D35: 1 year change in Fin Year Average RPI-CPIH | E35: =IF(Sector="ED2",INDEX(Data!$C$28:$N$28,MATCH(E$33,Data!$C$27:$N$27,0))/INDEX(Data!$C$28:$N$28,MATCH(E$33-1,Data!$C$27:$N$27,0)),INDEX(Data!$C$19:$N$19,MATCH(E$33,Data!$C$18:$N$18,0))/INDEX(Data!$C$19:$N$19,MATCH(E$33-1,Data!$C$18:$N$18,0))) -> 1.0121283 | F35: =IF(Sector="ED2",INDEX(Data!$C$28:$N$28,MATCH(F$33,Data!$C$27:$N$27,0))/INDEX(Data!$C$28:$N$28,MATCH(F$33-1,Data!$C$27:$N$27,0)),INDEX(Data!$C$19:$N$19,MATCH(F$33,Data!$C$18:$N$18,0))/INDEX(Data!$C$19:$N$19,MATCH(F$33-1,Data!$C$18:$N$18,0))) -> 1.057762 | G35: =IF(Sector="ED2",INDEX(Data!$C$28:$N$28,MATCH(G$33,Data!$C$27:$N$27,0))/INDEX(Data!$C$28:$N$28,MATCH(G$33-1,Data!$C$27:$N$27,0)),INDEX(Data!$C$19:$N$19,MATCH(G$33,Data!$C$18:$N$18,0))/INDEX(Data!$C$19:$N$19,MATCH(G$33-1,Data!$C$18:$N$18,0))) -> 1.1287394 | H35: =IF(Sector="ED2",INDEX(Data!$C$28:$N$28,MATCH(H$33,Data!$C$27:$N$27,0))/INDEX(Data!$C$28:$N$28,MATCH(H$33-1,Data!$C$27:$N$27,0)),INDEX(Data!$C$19:$N$19,MATCH(H$33,Data!$C$18:$N$18,0))/INDEX(Data!$C$19:$N$19,MATCH(H$33-1,Data!$C$18:$N$18,0))) -> 1.0726043 | I35: =IF(Sector="ED2",INDEX(Data!$C$28:$N$28,MATCH(I$33,Data!$C$27:$N$27,0))/INDEX(Data!$C$28:$N$28,MATCH(I$33-1,Data!$C$27:$N$27,0)),INDEX(Data!$C$19:$N$19,MATCH(I$33,Data!$C$18:$N$18,0))/INDEX(Data!$C$19:$N$19,MATCH(I$33-1,Data!$C$18:$N$18,0))) -> 1.0321484 | J35: =IF(Sector="ED2",INDEX(Data!$C$28:$N$28,MATCH(J$33,Data!$C$27:$N$27,0))/INDEX(Data!$C$28:$N$28,MATCH(J$33-1,Data!$C$27:$N$27,0)),INDEX(Data!$C$19:$N$19,MATCH(J$33,Data!$C$18:$N$18,0))/INDEX(Data!$C$19:$N$19,MATCH(J$33-1,Data!$C$18:$N$18,0))) -> 1.0378614 | K35: =IF(Sector="ED2",INDEX(Data!$C$28:$N$28,MATCH(K$33,Data!$C$27:$N$27,0))/INDEX(Data!$C$28:$N$28,MATCH(K$33-1,Data!$C$27:$N$27,0)),INDEX(Data!$C$19:$N$19,MATCH(K$33,Data!$C$18:$N$18,0))/INDEX(Data!$C$19:$N$19,MATCH(K$33-1,Data!$C$18:$N$18,0))) -> 1.0287267 | L35: =IF(Sector="ED2",INDEX(Data!$C$28:$N$28,MATCH(L$33,Data!$C$27:$N$27,0))/INDEX(Data!$C$28:$N$28,MATCH(L$33-1,Data!$C$27:$N$27,0)),INDEX(Data!$C$19:$N$19,MATCH(L$33,Data!$C$18:$N$18,0))/INDEX(Data!$C$19:$N$19,MATCH(L$33-1,Data!$C$18:$N$18,0))) -> 1.0197147
D36: Combined real to nominal prices conversion factor (financial year end) | E36: =IF(SectorCov="ED2",INDEX(Data!$C$29:$N$29,MATCH(E$33,Data!$C$27:$N$27,0))/Data!$E$28,INDEX(Data!$C$20:$N$20,MATCH(E$33,Data!$C$18:$N$18,0))/Data!$C$19) -> 1.0164306 | F36: =IF(SectorCov="ED2",INDEX(Data!$C$29:$N$29,MATCH(F$33,Data!$C$27:$N$27,0))/Data!$E$28,INDEX(Data!$C$20:$N$20,MATCH(F$33,Data!$C$18:$N$18,0))/Data!$C$19) -> 1.1185836 | G36: =IF(SectorCov="ED2",INDEX(Data!$C$29:$N$29,MATCH(G$33,Data!$C$27:$N$27,0))/Data!$E$28,INDEX(Data!$C$20:$N$20,MATCH(G$33,Data!$C$18:$N$18,0))/Data!$C$19) -> 1.2567228 | H36: =IF(SectorCov="ED2",INDEX(Data!$C$29:$N$29,MATCH(H$33,Data!$C$27:$N$27,0))/Data!$E$28,INDEX(Data!$C$20:$N$20,MATCH(H$33,Data!$C$18:$N$18,0))/Data!$C$19) -> 1.3006735 | I36: =IF(SectorCov="ED2",INDEX(Data!$C$29:$N$29,MATCH(I$33,Data!$C$27:$N$27,0))/Data!$E$28,INDEX(Data!$C$20:$N$20,MATCH(I$33,Data!$C$18:$N$18,0))/Data!$C$19) -> 1.3499788 | J36: =IF(SectorCov="ED2",INDEX(Data!$C$29:$N$29,MATCH(J$33,Data!$C$27:$N$27,0))/Data!$E$28,INDEX(Data!$C$20:$N$20,MATCH(J$33,Data!$C$18:$N$18,0))/Data!$C$19) -> 1.3933674 | K36: =IF(SectorCov="ED2",INDEX(Data!$C$29:$N$29,MATCH(K$33,Data!$C$27:$N$27,0))/Data!$E$28,INDEX(Data!$C$20:$N$20,MATCH(K$33,Data!$C$18:$N$18,0))/Data!$C$19) -> 1.4250528 | L36: =IF(SectorCov="ED2",INDEX(Data!$C$29:$N$29,MATCH(L$33,Data!$C$27:$N$27,0))/Data!$E$28,INDEX(Data!$C$20:$N$20,MATCH(L$33,Data!$C$18:$N$18,0))/Data!$C$19) -> 1.4520099
B37: *Note: The price conversion factors are derived from price indices in line with the inflation methodology in the PCFM to reflect actuals through June sourced from Office of National Statistics i.e. ONS (Historical data - https://www.ons.gov.uk/economy/inflationandpriceindices/timeseries/l522/mm23) and the forecast from the Office of Budget Responsibility i.e. OBR (https://obr.uk/data). Please refer to chapter 2 of the Price Control Financial Handbook for more information.
B40: Allowed cost of debt %
C41: 2022 | D41: =C41+1 -> 2023 | E41: =D41+1 -> 2024 | F41: =E41+1 -> 2025 | G41: =F41+1 -> 2026 | H41: =G41+1 -> 2027 | I41: =H41+1 -> 2028
B42: SSES | E42: 0.0304 | F42: 0.0311 | G42: 0.0313 | H42: 0.0314 | I42: 0.0314
B43: NGED-EMID | E43: 0.0304 | F43: 0.0311 | G43: 0.0313 | H43: 0.0314 | I43: 0.0314
B44: UKPN-EPN | E44: 0.0304 | F44: 0.0311 | G44: 0.0313 | H44: 0.0314 | I44: 0.0314
B45: ED - excluding SSES,NGED-EMID,UKPN-EPN | E45: 0.031 | F45: 0.0317 | G45: 0.0319 | H45: 0.032 | I45: 0.032
B46: SHET | C46: 0.018184708 | D46: 0.015816904 | E46: 0.018016 | F46: 0.023111514 | G46: 0.02662107
B47: ET - excluding SHET | C47: 0.0205 | D47: 0.019 | E47: 0.0192 | F47: 0.0211 | G47: 0.0226
B48: GD | C48: 0.0205 | D48: 0.019 | E48: 0.0192 | F48: 0.0211 | G48: 0.0226
...

Sheet Content & Version Control
A1: Version control
A2: =Licensee -> NGED-SWALES
A3: =Reporting_Year -> 2026
B6: Version:
B8: Submission | C8: Date submitted | D8: Changes
B9: Submission 1
B10: Submission 2
B11: Submission 3
B12: Submission 4
B13: Submission 5
B14: Submission 6
B15: Submission 7
B16: Submission 8
B17: Submission 9
B18: Submission 10
B21: R1 - RoRE
B22: R2 - Rec to Revenue and Profit
... B39: I2 - Monthly Inflation

Sheet Change log
A1: Change log
A2: =Licensee -> NGED-SWALES
A3: =Reporting_Year -> 2026
A5: Version | B5: Table Reference | C5: Changes made to RFPR template | D5: Raised By
A6: V2.0 | B6: R2 - row 24 (RRt) | C6: Changed the description to add "per latest PCFM" for more clarity. Guidance document has also been amended. | D6: Ofgem
A7: V2.0 | B7: R8 - Row 21 | C7: Corrected cell references in formula | D7: Ofgem
A8: V2.0 | B8: R3 - row 116, 121, 133, 142 | C8: Changed the description to '[Input description, add additional rows as required]' | D8: Ofgem
A9: V2.0 | B9: R3 - Rows 36 and 37 | C9: Copied and rolled-over D36:D37 formula into future years | D9: Ofgem
A10: V2.0 | B10: R1 - J22:K28 and J49:K55 | C10: Corrected cell references in formula for 'cumulative' and RIIO-2 period' | D10: Ofgem
A11: V2.0 | B11: R2 - Rec to Revenue and Profit | C11: Row 103 formula corrected (was sum now difference) | D11: ESO/NGGT(TO)/NGGT(SO)/NGET(TO)
A12: V2.0 | B12: R3 - Row 194 & 196 | C12: Added formula/ corrected cell references in formula | D12: ESO/NGGT(TO)/SPT/NGET
A13: V2.0 | B13: R1 row 76 | C13: Formula in J75:K75 dragged down to populate row 76 which was blank. | D13: NGGT(SO)
A14: V2.0 | B14: R8 Row 21 | C14: Included if function because top half R8 only completed for actuals on a T+1 basis; therefore if forecast, amount should be zero | D14: WWU
A15: V2.0 | B15: R3 | C15: Formula in row 198 amended to compare to row 196 not 194 | D15: WWU/SPT
A16: V2.0 | B16: R7 - RAV | C16: Formulas in row 5 amended to reflect show that RAV totals in AIP 2021 PCFM are not actuals, therefore flag should remain as forecast until the AIP after the Reg year has passed (as was the case in RIIO-1). For example RAV value in 21/22 AIP for 21/22 was not an actual and therefore the check in row 27 should not be activated until the next regulatory year. AIP 2022 will contain the actual 21/22 RAV value and therefore a check to ensure this matches can be incorporated from 22/23 onwards. | D16: SPT
... A43: V2.0 | B43: Data M339- M367 | C43: Incorporated a new table to change values to nominal that feed into materiality check in row 95 (tax charge) | D43: Ofgem
B44: Data tab - Cell C10 | C44: Added to lookup deadband threshold values from Table 2 (M04-S332) for materiality checks for use in R8a (Rows 44-93) | D44: Ofgem
B45: Data tab - Cell C11 | C45: Added to lookup deadband threshold values from Table 3 (M04-S332) for materiality checks for use in R8a - Tax charge (Row95) | D45: Ofgem
A46: V2.0 | B46: Data D273-D274 | C46: Added in Data tab “Swap pay leg – finco back to back” in D273, and “Swap receive leg – finco back to back” in D274. | D46: Ofgem
A47: V2.0 | B47: R8a | C47: Previous version of Col I and J deleted | D47: Ofgem
A48: V2.0 | B48: R8a | C48: Deleted materiality checks from row 31 and above as it's not mandatory for licensees to explain those differences | D48: Ofgem
A49: V2.0 | B49: R8a | C49: Corrected formula in col L to look up correct cell references | D49: SPEN, ESO, NGET
A50: V2.0 | B50: R8a | C50: Removed the word 'turnover' in cells A35, A38 and A41 | D50: ESO, NGET
A51: V2.0 | B51: R8 | C51: Changed the label in cell B11 and description in cell J11 | D51: SPEN, ESO
A52: V2.0 | B52: R3 | C52: Labels are now fomula driven in cells B11 and B45 to include "repex" term only referring to GD2 | D52: SPEN
A53: V2.0 | B53: R8 - Cell J11 | C53: Comment amended to - "R8 row 11 must match with worksheet R8a row 95 minus regulatory adjustments." | D53: SPEN
A54: V2.0 | B54: R4 | C54: Added formulae/ logic to generate cumulative values in col I and J | D54: Ofgem
A55: v2.0 | B55: R6 | C55: 15/06/2023: Added in new section for reconciliation to statutory accounts: R6 cell B21: row label changed from "Total Debt per Statutory Accounts" to "Total Modelled Debt" R6 add in thirteen new rows below row 46 ("Closing regulatory net debt including forecast new debt/refinancing". These rows are headed "Conversion from Regulatory (RIIO-2) Definition of Net Debt to Statutory Net Debt" | D55: Ofgem
A56: v2.0 | B56: R5a | C56: 15/06/2023: Added in additional overwrite lines for Debt Interest Expense R5a add in five new rows below row 53. This adds in five new "Other adjustment (Overwrite)" lines above "Sub Total: "Debt Interest Expense" R5a row 59 "Sub Total: "Debt Interest Expense" formula amended to incorporate the five new rows. In Column M, changed from "=SUM(M40:M53)" to "=SUM(M40:M58)" and pasted across the row. | D56: Ofgem
A57: v2.0 | B57: R1-R10, F3-F6, I1-I2 | C57: Non-input cells have been password protected to prevent any over-writing | D57: Ofgem
... A132: v5.0 | B132: F5 - Inflation Linked Debt - BZ11:CR610; LH11:LY610; MB11:MS610; NP11:OG610 | C132: Formula amended to look up to columns I:K in Monthly Inflation | D132: Cadent

Sheet R1 - RoRE
A1: R1 - Return on Regulatory Equity (RoRE)
A2: =Licensee -> NGED-SWALES
A3: =Reporting_Year -> 2026 | B3: =IF(Licensee=Data!$B$86,"Only required to be completed to show Operational Performance","")
D5: =IF(D6<=Reporting_Year,"Actuals","Forecast") -> Actuals | E5: =IF(E6<=Reporting_Year,"Actuals","Forecast") -> Actuals | F5: =IF(F6<=Reporting_Year,"Actuals","Forecast") -> Actuals | G5: =IF(G6<=Reporting_Year,"Actuals","Forecast") -> Forecast | H5: =IF(H6<=Reporting_Year,"Actuals","Forecast") -> Forecast
D6: =RIIO_2_start_date -> 2024 | E6: =D6+1 -> 2025 | F6: =E6+1 -> 2026 | G6: =F6+1 -> 2027 | H6: =G6+1 -> 2028 | J6: ="Cumulative to "&'RFPR cover'!$C$9 -> Cumulative to 2026 | K6: RIIO-2 period
D7: =RIIO_2_start_date-1&"/"&RIGHT(RIIO_2_start_date,2) -> 2023/24 | E7: =RIIO_2_start_date&"/"&RIGHT(RIIO_2_start_date+1,2) -> 2024/25 | F7: =RIIO_2_start_date+1&"/"&RIGHT(RIIO_2_start_date+2,2) -> 2025/26 | G7: =RIIO_2_start_date+2&"/"&RIGHT(RIIO_2_start_date+3,2) -> 2026/27 | H7: =RIIO_2_start_date+3&"/"&RIGHT(RIIO_2_start_date+4,2) -> 2027/28
B9: RoRE based on Notional Gearing
B11: Allowed Equity Return | C11: % | D11: =IFERROR(Equity_Return_on_the_RAV/NPV_neutral_equity_element_of_RAV,0) -> 0.052833944 | E11: =IFERROR(Equity_Return_on_the_RAV/NPV_neutral_equity_element_of_RAV,0) -> 0.055875458 | F11: =IFERROR(Equity_Return_on_the_RAV/NPV_neutral_equity_element_of_RAV,0) -> 0.054475396 | G11: =IFERROR(Equity_Return_on_the_RAV/NPV_neutral_equity_element_of_RAV,0) -> 0.056672045 | H11: =IFERROR(Equity_Return_on_the_RAV/NPV_neutral_equity_element_of_RAV,0) -> 0.055271983 | J11: =IFERROR(AVERAGE(D69:INDEX(D69:H69,0,MATCH('RFPR cover'!$C$9,$D$6:$H$6,0)))/AVERAGE($D$96:INDEX($D$96:$H$96,0,MATCH('RFPR cover'!$C$9,$D$6:$H$6,0))),0) -> 0.054414228 | K11: =IFERROR(AVERAGE(D69:H69)/AVERAGE($D$96:$H$96),0) -> 0.055074338
B12: =B70 -> Totex outperformance | C12: % | D12: =IFERROR(Totex_outperformance/NPV_neutral_equity_element_of_RAV,0) -> -0.0018610934 | E12: =IFERROR(Totex_outperformance/NPV_neutral_equity_element_of_RAV,0) -> -0.0021821222 | F12: =IFERROR(Totex_outperformance/NPV_neutral_equity_element_of_RAV,0) -> -0.0021982314 | G12: =IFERROR(Totex_outperformance/NPV_neutral_equity_element_of_RAV,0) -> -0.0021267334 | H12: =IFERROR(Totex_outperformance/NPV_neutral_equity_element_of_RAV,0) -> -0.0021338431 | J12: =IFERROR(AVERAGE(D70:INDEX(D70:H70,0,MATCH('RFPR cover'!$C$9,$D$6:$H$6,0)))/AVERAGE($D$96:INDEX($D$96:$H$96,0,MATCH('RFPR cover'!$C$9,$D$6:$H$6,0))),0) -> -0.0020849243 | K12: =IFERROR(AVERAGE(D70:H70)/AVERAGE($D$96:$H$96),0) -> -0.0021044121
A13: a | B13: =B71 -> Business Plan Incentive | C13: % | D13: =IFERROR(Business_Plan_Incentive/NPV_neutral_equity_element_of_RAV,0) -> 0.0013514012 | E13: =IFERROR(Business_Plan_Incentive/NPV_neutral_equity_element_of_RAV,0) -> 0 | F13: =IFERROR(Business_Plan_Incentive/NPV_neutral_equity_element_of_RAV,0) -> 0 | G13: =IFERROR(Business_Plan_Incentive/NPV_neutral_equity_element_of_RAV,0) -> 0 | H13: =IFERROR(Business_Plan_Incentive/NPV_neutral_equity_element_of_RAV,0) -> 0 | J13: =IFERROR(AVERAGE(D71:INDEX(D71:H71,0,MATCH('RFPR cover'!$C$9,$D$6:$H$6,0)))/AVERAGE($D$96:INDEX($D$96:$H$96,0,MATCH('RFPR cover'!$C$9,$D$6:$H$6,0))),0) -> 0.00043276322 | K13: =IFERROR(AVERAGE(D71:H71)/AVERAGE($D$96:$H$96),0) -> 0.00024722863
A14: b | B14: =B72 -> Time to connect ODI | C14: % | D14: =IFERROR(ODI_1/NPV_neutral_equity_element_of_RAV,0) -> 0.00066894906 | E14: =IFERROR(ODI_1/NPV_neutral_equity_element_of_RAV,0) -> 0.0013498531 | F14: =IFERROR(ODI_1/NPV_neutral_equity_element_of_RAV,0) -> 0.0015511578 | G14: =IFERROR(ODI_1/NPV_neutral_equity_element_of_RAV,0) -> 0.001452331 | H14: =IFERROR(ODI_1/NPV_neutral_equity_element_of_RAV,0) -> 0.0013792571 | J14: =IFERROR(AVERAGE(D72:INDEX(D72:H72,0,MATCH('RFPR cover'!$C$9,$D$6:$H$6,0)))/AVERAGE($D$96:INDEX($D$96:$H$96,0,MATCH('RFPR cover'!$C$9,$D$6:$H$6,0))),0) -> 0.0012018614 | K14: =IFERROR(AVERAGE(D72:H72)/AVERAGE($D$96:$H$96),0) -> 0.0012931745
A15: c | B15: =B73 -> Broad Measure of Customer Service ODI | C15: % | D15: =IFERROR(ODI_2/NPV_neutral_equity_element_of_RAV,0) -> 0.00087659096 | E15: =IFERROR(ODI_2/NPV_neutral_equity_element_of_RAV,0) -> 0.00015427087 | F15: =IFERROR(ODI_2/NPV_neutral_equity_element_of_RAV,0) -> 0.001274526 | G15: =IFERROR(ODI_2/NPV_neutral_equity_element_of_RAV,0) -> 0.0021395555 | H15: =IFERROR(ODI_2/NPV_neutral_equity_element_of_RAV,0) -> 0.0025207374 | J15: =IFERROR(AVERAGE(D73:INDEX(D73:H73,0,MATCH('RFPR cover'!$C$9,$D$6:$H$6,0)))/AVERAGE($D$96:INDEX($D$96:$H$96,0,MATCH('RFPR cover'!$C$9,$D$6:$H$6,0))),0) -> 0.00077544233 | K15: =IFERROR(AVERAGE(D73:H73)/AVERAGE($D$96:$H$96),0) -> 0.001444085
A16: d | B16: =B74 -> Interruptions incentive scheme ODI | C16: % | D16: =IFERROR(ODI_3/NPV_neutral_equity_element_of_RAV,0) -> -0.0012067845 | E16: =IFERROR(ODI_3/NPV_neutral_equity_element_of_RAV,0) -> -0.0011529893 | F16: =IFERROR(ODI_3/NPV_neutral_equity_element_of_RAV,0) -> -0.0033036093 | G16: =IFERROR(ODI_3/NPV_neutral_equity_element_of_RAV,0) -> -0.0017501578 | H16: =IFERROR(ODI_3/NPV_neutral_equity_element_of_RAV,0) -> -0.0016620988 | J16: =IFERROR(AVERAGE(D74:INDEX(D74:H74,0,MATCH('RFPR cover'!$C$9,$D$6:$H$6,0)))/AVERAGE($D$96:INDEX($D$96:$H$96,0,MATCH('RFPR cover'!$C$9,$D$6:$H$6,0))),0) -> -0.001918655 | K16: =IFERROR(AVERAGE(D74:H74)/AVERAGE($D$96:$H$96),0) -> -0.0018270533
A17: e | B17: =B75 -> Major connections ODI | C17: % | D17: =IFERROR(ODI_4/NPV_neutral_equity_element_of_RAV,0) -> 0 | E17: =IFERROR(ODI_4/NPV_neutral_equity_element_of_RAV,0) -> 0 | F17: =IFERROR(ODI_4/NPV_neutral_equity_element_of_RAV,0) -> 0 | G17: =IFERROR(ODI_4/NPV_neutral_equity_element_of_RAV,0) -> 0 | H17: =IFERROR(ODI_4/NPV_neutral_equity_element_of_RAV,0) -> 0 | J17: =IFERROR(AVERAGE(D75:INDEX(D75:H75,0,MATCH('RFPR cover'!$C$9,$D$6:$H$6,0)))/AVERAGE($D$96:INDEX($D$96:$H$96,0,MATCH('RFPR cover'!$C$9,$D$6:$H$6,0))),0) -> 0 | K17: =IFERROR(AVERAGE(D75:H75)/AVERAGE($D$96:$H$96),0) -> 0
A18: f | B18: =B76 -> Consumer Vulnerability ODI | C18: % | D18: =IFERROR(ODI_5/NPV_neutral_equity_element_of_RAV,0) -> 0 | E18: =IFERROR(ODI_5/NPV_neutral_equity_element_of_RAV,0) -> 0.00060727566 | F18: =IFERROR(ODI_5/NPV_neutral_equity_element_of_RAV,0) -> 0 | G18: =IFERROR(ODI_5/NPV_neutral_equity_element_of_RAV,0) -> 0 | H18: =IFERROR(ODI_5/NPV_neutral_equity_element_of_RAV,0) -> 0.0015548144 | J18: =IFERROR(AVERAGE(D76:INDEX(D76:H76,0,MATCH('RFPR cover'!$C$9,$D$6:$H$6,0)))/AVERAGE($D$96:INDEX($D$96:$H$96,0,MATCH('RFPR cover'!$C$9,$D$6:$H$6,0))),0) -> 0.00020146755 | K18: =IFERROR(AVERAGE(D76:H76)/AVERAGE($D$96:$H$96),0) -> 0.00045698598
A19: g | B19: =B77 -> Distribution System Operator ODI | C19: % | D19: =IFERROR(ODI_6/NPV_neutral_equity_element_of_RAV,0) -> 0.0018038268 | E19: =IFERROR(ODI_6/NPV_neutral_equity_element_of_RAV,0) -> 0.0043557655 | F19: =IFERROR(ODI_6/NPV_neutral_equity_element_of_RAV,0) -> 0.0041523233 | G19: =IFERROR(ODI_6/NPV_neutral_equity_element_of_RAV,0) -> 0.0037103777 | H19: =IFERROR(ODI_6/NPV_neutral_equity_element_of_RAV,0) -> 0.0035236904 | J19: =IFERROR(AVERAGE(D77:INDEX(D77:H77,0,MATCH('RFPR cover'!$C$9,$D$6:$H$6,0)))/AVERAGE($D$96:INDEX($D$96:$H$96,0,MATCH('RFPR cover'!$C$9,$D$6:$H$6,0))),0) -> 0.0034677505 | K19: =IFERROR(AVERAGE(D77:H77)/AVERAGE($D$96:$H$96),0) -> 0.0035307187
A20: h | B20: =B78 -> Dig, Fix and Go ODI (ENWL only) | C20: % | D20: =IFERROR(ODI_7/NPV_neutral_equity_element_of_RAV,0) -> 0 | E20: =IFERROR(ODI_7/NPV_neutral_equity_element_of_RAV,0) -> 0 | F20: =IFERROR(ODI_7/NPV_neutral_equity_element_of_RAV,0) -> 0 | G20: =IFERROR(ODI_7/NPV_neutral_equity_element_of_RAV,0) -> 0 | H20: =IFERROR(ODI_7/NPV_neutral_equity_element_of_RAV,0) -> 0 | J20: =IFERROR(AVERAGE(D78:INDEX(D78:H78,0,MATCH('RFPR cover'!$C$9,$D$6:$H$6,0)))/AVERAGE($D$96:INDEX($D$96:$H$96,0,MATCH('RFPR cover'!$C$9,$D$6:$H$6,0))),0) -> 0 | K20: =IFERROR(AVERAGE(D78:H78)/AVERAGE($D$96:$H$96),0) -> 0
A21: i | B21: =B79 -> Collaborative Streetworks ODI (EPN, LPN and SPN only) | C21: % | D21: =IFERROR(ODI_8/NPV_neutral_equity_element_of_RAV,0) -> 0 | E21: =IFERROR(ODI_8/NPV_neutral_equity_element_of_RAV,0) -> 0 | F21: =IFERROR(ODI_8/NPV_neutral_equity_element_of_RAV,0) -> 0 | G21: =IFERROR(ODI_8/NPV_neutral_equity_element_of_RAV,0) -> 0 | H21: =IFERROR(ODI_8/NPV_neutral_equity_element_of_RAV,0) -> 0 | J21: =IFERROR(AVERAGE(D79:INDEX(D79:H79,0,MATCH('RFPR cover'!$C$9,$D$6:$H$6,0)))/AVERAGE($D$96:INDEX($D$96:$H$96,0,MATCH('RFPR cover'!$C$9,$D$6:$H$6,0))),0) -> 0 | K21: =IFERROR(AVERAGE(D79:H79)/AVERAGE($D$96:$H$96),0) -> 0
A22: i | B22: =B80 -> Network innovation input for RORE | C22: % | D22: =IFERROR(ORA_1/NPV_neutral_equity_element_of_RAV,0) -> -4.5116565e-06 | E22: =IFERROR(ORA_1/NPV_neutral_equity_element_of_RAV,0) -> -2.163142e-05 | F22: =IFERROR(ORA_1/NPV_neutral_equity_element_of_RAV,0) -> -6.2605792e-05 | G22: =IFERROR(ORA_1/NPV_neutral_equity_element_of_RAV,0) -> -0.00019570916 | H22: =IFERROR(ORA_1/NPV_neutral_equity_element_of_RAV,0) -> -0.00025458329 | J22: =IFERROR(AVERAGE(D80:INDEX(D80:H80,0,MATCH('RFPR cover'!$C$9,$D$6:$H$6,0)))/AVERAGE($D$96:INDEX($D$96:$H$96,0,MATCH('RFPR cover'!$C$9,$D$6:$H$6,0))),0) -> -3.0408626e-05 | K22: =IFERROR(AVERAGE(D80:H80)/AVERAGE($D$96:$H$96),0) -> -0.00011422237
A23: ii | B23: =B81 -> Carry-over Network innovation input for RORE | C23: % | D23: =IFERROR(ORA_2/NPV_neutral_equity_element_of_RAV,0) -> -5.6938635e-05 | E23: =IFERROR(ORA_2/NPV_neutral_equity_element_of_RAV,0) -> 0 | F23: =IFERROR(ORA_2/NPV_neutral_equity_element_of_RAV,0) -> 0 | G23: =IFERROR(ORA_2/NPV_neutral_equity_element_of_RAV,0) -> 0 | H23: =IFERROR(ORA_2/NPV_neutral_equity_element_of_RAV,0) -> 0 | J23: =IFERROR(AVERAGE(D81:INDEX(D81:H81,0,MATCH('RFPR cover'!$C$9,$D$6:$H$6,0)))/AVERAGE($D$96:INDEX($D$96:$H$96,0,MATCH('RFPR cover'!$C$9,$D$6:$H$6,0))),0) -> -1.8233629e-05 | K23: =IFERROR(AVERAGE(D81:H81)/AVERAGE($D$96:$H$96),0) -> -1.0416493e-05
A24: iii | B24: =B82 -> Strategic innovation input for RORE | C24: % | D24: =IFERROR(ORA_3/NPV_neutral_equity_element_of_RAV,0) -> 0 | E24: =IFERROR(ORA_3/NPV_neutral_equity_element_of_RAV,0) -> 0 | F24: =IFERROR(ORA_3/NPV_neutral_equity_element_of_RAV,0) -> 0 | G24: =IFERROR(ORA_3/NPV_neutral_equity_element_of_RAV,0) -> 0 | H24: =IFERROR(ORA_3/NPV_neutral_equity_element_of_RAV,0) -> 0 | J24: =IFERROR(AVERAGE(D82:INDEX(D82:H82,0,MATCH('RFPR cover'!$C$9,$D$6:$H$6,0)))/AVERAGE($D$96:INDEX($D$96:$H$96,0,MATCH('RFPR cover'!$C$9,$D$6:$H$6,0))),0) -> 0 | K24: =IFERROR(AVERAGE(D82:H82)/AVERAGE($D$96:$H$96),0) -> 0
A25: iv | B25: =B83 | C25: % | D25: =IFERROR(ORA_4/NPV_neutral_equity_element_of_RAV,0) -> 0 | E25: =IFERROR(ORA_4/NPV_neutral_equity_element_of_RAV,0) -> 0 | F25: =IFERROR(ORA_4/NPV_neutral_equity_element_of_RAV,0) -> 0 | G25: =IFERROR(ORA_4/NPV_neutral_equity_element_of_RAV,0) -> 0 | H25: =IFERROR(ORA_4/NPV_neutral_equity_element_of_RAV,0) -> 0 | J25: =IFERROR(AVERAGE(D83:INDEX(D83:H83,0,MATCH('RFPR cover'!$C$9,$D$6:$H$6,0)))/AVERAGE($D$96:INDEX($D$96:$H$96,0,MATCH('RFPR cover'!$C$9,$D$6:$H$6,0))),0) -> 0 | K25: =IFERROR(AVERAGE(D83:H83)/AVERAGE($D$96:$H$96),0) -> 0
A26: v | B26: =B84 | C26: % | D26: =IFERROR(ORA_5/NPV_neutral_equity_element_of_RAV,0) -> 0 | E26: =IFERROR(ORA_5/NPV_neutral_equity_element_of_RAV,0) -> 0 | F26: =IFERROR(ORA_5/NPV_neutral_equity_element_of_RAV,0) -> 0 | G26: =IFERROR(ORA_5/NPV_neutral_equity_element_of_RAV,0) -> 0 | H26: =IFERROR(ORA_5/NPV_neutral_equity_element_of_RAV,0) -> 0 | J26: =IFERROR(AVERAGE(D84:INDEX(D84:H84,0,MATCH('RFPR cover'!$C$9,$D$6:$H$6,0)))/AVERAGE($D$96:INDEX($D$96:$H$96,0,MATCH('RFPR cover'!$C$9,$D$6:$H$6,0))),0) -> 0 | K26: =IFERROR(AVERAGE(D84:H84)/AVERAGE($D$96:$H$96),0) -> 0
A27: vi | B27: =B85 | C27: % | D27: =IFERROR(ORA_6/NPV_neutral_equity_element_of_RAV,0) -> 0 | E27: =IFERROR(ORA_6/NPV_neutral_equity_element_of_RAV,0) -> 0 | F27: =IFERROR(ORA_6/NPV_neutral_equity_element_of_RAV,0) -> 0 | G27: =IFERROR(ORA_6/NPV_neutral_equity_element_of_RAV,0) -> 0 | H27: =IFERROR(ORA_6/NPV_neutral_equity_element_of_RAV,0) -> 0 | J27: =IFERROR(AVERAGE(D85:INDEX(D85:H85,0,MATCH('RFPR cover'!$C$9,$D$6:$H$6,0)))/AVERAGE($D$96:INDEX($D$96:$H$96,0,MATCH('RFPR cover'!$C$9,$D$6:$H$6,0))),0) -> 0 | K27: =IFERROR(AVERAGE(D85:H85)/AVERAGE($D$96:$H$96),0) -> 0
A28: vii | B28: =B86 | C28: % | D28: =IFERROR(ORA_7/NPV_neutral_equity_element_of_RAV,0) -> 0 | E28: =IFERROR(ORA_7/NPV_neutral_equity_element_of_RAV,0) -> 0 | F28: =IFERROR(ORA_7/NPV_neutral_equity_element_of_RAV,0) -> 0 | G28: =IFERROR(ORA_7/NPV_neutral_equity_element_of_RAV,0) -> 0 | H28: =IFERROR(ORA_7/NPV_neutral_equity_element_of_RAV,0) -> 0 | J28: =IFERROR(AVERAGE(D86:INDEX(D86:H86,0,MATCH('RFPR cover'!$C$9,$D$6:$H$6,0)))/AVERAGE($D$96:INDEX($D$96:$H$96,0,MATCH('RFPR cover'!$C$9,$D$6:$H$6,0))),0) -> 0 | K28: =IFERROR(AVERAGE(D86:H86)/AVERAGE($D$96:$H$96),0) -> 0
A29: viii | B29: =B87 | C29: % | D29: =IFERROR(ORA_8/NPV_neutral_equity_element_of_RAV,0) -> 0 | E29: =IFERROR(ORA_8/NPV_neutral_equity_element_of_RAV,0) -> 0 | F29: =IFERROR(ORA_8/NPV_neutral_equity_element_of_RAV,0) -> 0 | G29: =IFERROR(ORA_8/NPV_neutral_equity_element_of_RAV,0) -> 0 | H29: =IFERROR(ORA_8/NPV_neutral_equity_element_of_RAV,0) -> 0 | J29: =IFERROR(AVERAGE(D87:INDEX(D87:H87,0,MATCH('RFPR cover'!$C$9,$D$6:$H$6,0)))/AVERAGE($D$96:INDEX($D$96:$H$96,0,MATCH('RFPR cover'!$C$9,$D$6:$H$6,0))),0) -> 0 | K29: =IFERROR(AVERAGE(D87:H87)/AVERAGE($D$96:$H$96),0) -> 0
B30: =B88 -> Penalties and fines (Other Activities) | C30: % | D30: =IFERROR(Penalties_and_fines/NPV_neutral_equity_element_of_RAV,0) -> -3.4755049e-06 | E30: =IFERROR(Penalties_and_fines/NPV_neutral_equity_element_of_RAV,0) -> -0.0061657802 | F30: =IFERROR(Penalties_and_fines/NPV_neutral_equity_element_of_RAV,0) -> -8.6809619e-05 | G30: =IFERROR(Penalties_and_fines/NPV_neutral_equity_element_of_RAV,0) -> 0 | H30: =IFERROR(Penalties_and_fines/NPV_neutral_equity_element_of_RAV,0) -> 0 | J30: =IFERROR(AVERAGE(D88:INDEX(D88:H88,0,MATCH('RFPR cover'!$C$9,$D$6:$H$6,0)))/AVERAGE($D$96:INDEX($D$96:$H$96,0,MATCH('RFPR cover'!$C$9,$D$6:$H$6,0))),0) -> -0.0020768604 | K30: =IFERROR(AVERAGE(D88:H88)/AVERAGE($D$96:$H$96),0) -> -0.0011864672
B31: =B89 -> RoRE - Operational performance | C31: % | D31: =SUM(D11:D30) -> 0.054401908 | E31: =SUM(E11:E30) -> 0.0528201 | F31: =SUM(F11:F30) -> 0.055802147 | G31: =SUM(G11:G30) -> 0.059901709 | H31: =SUM(H11:H30) -> 0.060199957 | J31: =SUM(J11:J30) -> 0.054364431 | K31: =SUM(K11:K30) -> 0.05680396
B32: =B90 -> Debt performance - at notional gearing | C32: % | D32: =IFERROR(Debt_performance___at_notional_gearing/NPV_neutral_equity_element_of_RAV,0) -> 0.097353235 | E32: =IFERROR(Debt_performance___at_notional_gearing/NPV_neutral_equity_element_of_RAV,0) -> 0.038397807 | F32: =IFERROR(Debt_performance___at_notional_gearing/NPV_neutral_equity_element_of_RAV,0) -> 0.041278851 | G32: =IFERROR(Debt_performance___at_notional_gearing/NPV_neutral_equity_element_of_RAV,0) -> 0.036293116 | H32: =IFERROR(Debt_performance___at_notional_gearing/NPV_neutral_equity_element_of_RAV,0) -> 0.015095101 | J32: =IFERROR(AVERAGE(D90:INDEX(D90:H90,0,MATCH('RFPR cover'!$C$9,$D$6:$H$6,0)))/AVERAGE($D$96:INDEX($D$96:$H$96,0,MATCH('RFPR cover'!$C$9,$D$6:$H$6,0))),0) -> 0.058279913 | K32: =IFERROR(AVERAGE(D90:H90)/AVERAGE($D$96:$H$96),0) -> 0.044192436
B33: =B92 -> Tax performance - at notional gearing | C33: % | D33: =IFERROR(Tax_performance___at_notional_gearing/NPV_neutral_equity_element_of_RAV,0) -> 0.00029938806 | E33: =IFERROR(Tax_performance___at_notional_gearing/NPV_neutral_equity_element_of_RAV,0) -> -0.015153114 | F33: =IFERROR(Tax_performance___at_notional_gearing/NPV_neutral_equity_element_of_RAV,0) -> 0.00085660543 | G33: =IFERROR(Tax_performance___at_notional_gearing/NPV_neutral_equity_element_of_RAV,0) -> 3.516528e-05 | H33: =IFERROR(Tax_performance___at_notional_gearing/NPV_neutral_equity_element_of_RAV,0) -> -0.0013502412 | J33: =IFERROR(AVERAGE(D92:INDEX(D92:H92,0,MATCH('RFPR cover'!$C$9,$D$6:$H$6,0)))/AVERAGE($D$96:INDEX($D$96:$H$96,0,MATCH('RFPR cover'!$C$9,$D$6:$H$6,0))),0) -> -0.0046331599 | K33: =IFERROR(AVERAGE(D92:H92)/AVERAGE($D$96:$H$96),0) -> -0.0029363921
B34: =B94 -> RoRE - including financing and tax | C34: % | D34: =SUM(D31:D33) -> 0.15205453 | E34: =SUM(E31:E33) -> 0.076064793 | F34: =SUM(F31:F33) -> 0.097937604 | G34: =SUM(G31:G33) -> 0.09622999 | H34: =SUM(H31:H33) -> 0.073944817 | J34: =SUM(J31:J33) -> 0.10801118 | K34: =SUM(K31:K33) -> 0.098060003
B38: RoRE based on Actual Gearing
B40: Allowed Equity Return | C40: % | D40: =IFERROR(Equity_Return_on_the_RAV/Equity_RAV_based_on_actual_gearing,0) -> 0.045744539 | E40: =IFERROR(Equity_Return_on_the_RAV/Equity_RAV_based_on_actual_gearing,0) -> 0.049338472 | F40: =IFERROR(Equity_Return_on_the_RAV/Equity_RAV_based_on_actual_gearing,0) -> 0.048636734 | G40: =IFERROR(Equity_Return_on_the_RAV/Equity_RAV_based_on_actual_gearing,0) -> 0.055991747 | H40: =IFERROR(Equity_Return_on_the_RAV/Equity_RAV_based_on_actual_gearing,0) -> 0.056913979 | J40: =IFERROR(AVERAGE(D69:INDEX(D69:H69,0,MATCH('RFPR cover'!$C$9,$D$6:$H$6,0)))/AVERAGE($D$97:INDEX($D$97:$H$97,0,MATCH('RFPR cover'!$C$9,$D$6:$H$6,0))),0) -> 0.047926773 | K40: =IFERROR(AVERAGE(D69:H69)/AVERAGE($D$97:$H$97),0) -> 0.051302447
B41: =B70 -> Totex outperformance | C41: % | D41: =IFERROR(Totex_outperformance/Equity_RAV_based_on_actual_gearing,0) -> -0.0016113667 | E41: =IFERROR(Totex_outperformance/Equity_RAV_based_on_actual_gearing,0) -> -0.0019268312 | F41: =IFERROR(Totex_outperformance/Equity_RAV_based_on_actual_gearing,0) -> -0.0019626253 | G41: =IFERROR(Totex_outperformance/Equity_RAV_based_on_actual_gearing,0) -> -0.0021012038 | H41: =IFERROR(Totex_outperformance/Equity_RAV_based_on_actual_gearing,0) -> -0.0021972344 | J41: =IFERROR(AVERAGE(D70:INDEX(D70:H70,0,MATCH('RFPR cover'!$C$9,$D$6:$H$6,0)))/AVERAGE($D$97:INDEX($D$97:$H$97,0,MATCH('RFPR cover'!$C$9,$D$6:$H$6,0))),0) -> -0.0018363524 | K41: =IFERROR(AVERAGE(D70:H70)/AVERAGE($D$97:$H$97),0) -> -0.0019602867
A42: a | B42: =B71 -> Business Plan Incentive | C42: % | D42: =IFERROR(Business_Plan_Incentive/Equity_RAV_based_on_actual_gearing,0) -> 0.0011700664 | E42: =IFERROR(Business_Plan_Incentive/Equity_RAV_based_on_actual_gearing,0) -> 0 | F42: =IFERROR(Business_Plan_Incentive/Equity_RAV_based_on_actual_gearing,0) -> 0 | G42: =IFERROR(Business_Plan_Incentive/Equity_RAV_based_on_actual_gearing,0) -> 0 | H42: =IFERROR(Business_Plan_Incentive/Equity_RAV_based_on_actual_gearing,0) -> 0 | J42: =IFERROR(AVERAGE(D71:INDEX(D71:H71,0,MATCH('RFPR cover'!$C$9,$D$6:$H$6,0)))/AVERAGE($D$97:INDEX($D$97:$H$97,0,MATCH('RFPR cover'!$C$9,$D$6:$H$6,0))),0) -> 0.00038116767 | K42: =IFERROR(AVERAGE(D71:H71)/AVERAGE($D$97:$H$97),0) -> 0.00023029662
A43: b | B43: =B72 -> Time to connect ODI | C43: % | D43: =IFERROR(ODI_1/Equity_RAV_based_on_actual_gearing,0) -> 0.00057918762 | E43: =IFERROR(ODI_1/Equity_RAV_based_on_actual_gearing,0) -> 0.001191931 | F43: =IFERROR(ODI_1/Equity_RAV_based_on_actual_gearing,0) -> 0.001384905 | G43: =IFERROR(ODI_1/Equity_RAV_based_on_actual_gearing,0) -> 0.001434897 | H43: =IFERROR(ODI_1/Equity_RAV_based_on_actual_gearing,0) -> 0.0014202314 | J43: =IFERROR(AVERAGE(D72:INDEX(D72:H72,0,MATCH('RFPR cover'!$C$9,$D$6:$H$6,0)))/AVERAGE($D$97:INDEX($D$97:$H$97,0,MATCH('RFPR cover'!$C$9,$D$6:$H$6,0))),0) -> 0.0010585712 | K43: =IFERROR(AVERAGE(D72:H72)/AVERAGE($D$97:$H$97),0) -> 0.0012046085
A44: c | B44: =B73 -> Broad Measure of Customer Service ODI | C44: % | D44: =IFERROR(ODI_2/Equity_RAV_based_on_actual_gearing,0) -> 0.00075896755 | E44: =IFERROR(ODI_2/Equity_RAV_based_on_actual_gearing,0) -> 0.00013622241 | F44: =IFERROR(ODI_2/Equity_RAV_based_on_actual_gearing,0) -> 0.0011379225 | G44: =IFERROR(ODI_2/Equity_RAV_based_on_actual_gearing,0) -> 0.002113872 | H44: =IFERROR(ODI_2/Equity_RAV_based_on_actual_gearing,0) -> 0.0025956224 | J44: =IFERROR(AVERAGE(D73:INDEX(D73:H73,0,MATCH('RFPR cover'!$C$9,$D$6:$H$6,0)))/AVERAGE($D$97:INDEX($D$97:$H$97,0,MATCH('RFPR cover'!$C$9,$D$6:$H$6,0))),0) -> 0.00068299137 | K44: =IFERROR(AVERAGE(D73:H73)/AVERAGE($D$97:$H$97),0) -> 0.0013451835
A45: d | B45: =B74 -> Interruptions incentive scheme ODI | C45: % | D45: =IFERROR(ODI_3/Equity_RAV_based_on_actual_gearing,0) -> -0.0010448548 | E45: =IFERROR(ODI_3/Equity_RAV_based_on_actual_gearing,0) -> -0.0010180987 | F45: =IFERROR(ODI_3/Equity_RAV_based_on_actual_gearing,0) -> -0.0029495291 | G45: =IFERROR(ODI_3/Equity_RAV_based_on_actual_gearing,0) -> -0.0017291487 | H45: =IFERROR(ODI_3/Equity_RAV_based_on_actual_gearing,0) -> -0.0017114757 | J45: =IFERROR(AVERAGE(D74:INDEX(D74:H74,0,MATCH('RFPR cover'!$C$9,$D$6:$H$6,0)))/AVERAGE($D$97:INDEX($D$97:$H$97,0,MATCH('RFPR cover'!$C$9,$D$6:$H$6,0))),0) -> -0.0016899062 | K45: =IFERROR(AVERAGE(D74:H74)/AVERAGE($D$97:$H$97),0) -> -0.0017019233
A46: e | B46: =B75 -> Major connections ODI | C46: % | D46: =IFERROR(ODI_4/Equity_RAV_based_on_actual_gearing,0) -> 0 | E46: =IFERROR(ODI_4/Equity_RAV_based_on_actual_gearing,0) -> 0 | F46: =IFERROR(ODI_4/Equity_RAV_based_on_actual_gearing,0) -> 0 | G46: =IFERROR(ODI_4/Equity_RAV_based_on_actual_gearing,0) -> 0 | H46: =IFERROR(ODI_4/Equity_RAV_based_on_actual_gearing,0) -> 0 | J46: =IFERROR(AVERAGE(D75:INDEX(D75:H75,0,MATCH('RFPR cover'!$C$9,$D$6:$H$6,0)))/AVERAGE($D$97:INDEX($D$97:$H$97,0,MATCH('RFPR cover'!$C$9,$D$6:$H$6,0))),0) -> 0 | K46: =IFERROR(AVERAGE(D75:H75)/AVERAGE($D$97:$H$97),0) -> 0
A47: f | B47: =B76 -> Consumer Vulnerability ODI | C47: % | D47: =IFERROR(ODI_5/Equity_RAV_based_on_actual_gearing,0) -> 0 | E47: =IFERROR(ODI_5/Equity_RAV_based_on_actual_gearing,0) -> 0.00053622922 | F47: =IFERROR(ODI_5/Equity_RAV_based_on_actual_gearing,0) -> 0 | G47: =IFERROR(ODI_5/Equity_RAV_based_on_actual_gearing,0) -> 0 | H47: =IFERROR(ODI_5/Equity_RAV_based_on_actual_gearing,0) -> 0.0016010042 | J47: =IFERROR(AVERAGE(D76:INDEX(D76:H76,0,MATCH('RFPR cover'!$C$9,$D$6:$H$6,0)))/AVERAGE($D$97:INDEX($D$97:$H$97,0,MATCH('RFPR cover'!$C$9,$D$6:$H$6,0))),0) -> 0.00017744789 | K47: =IFERROR(AVERAGE(D76:H76)/AVERAGE($D$97:$H$97),0) -> 0.00042568825
...

Sheet R2 - Rec to Revenue and Profit
A1: R2 - Reconciliation to Revenue and Profit
A2: =Licensee -> NGED-SWALES
A3: =Reporting_Year -> 2026
E5: =IF(E6<=Reporting_Year,"Actuals","Forecast") -> Actuals | F5: =IF(F6<=Reporting_Year,"Actuals","Forecast") -> Actuals | G5: =IF(G6<=Reporting_Year,"Actuals","Forecast") -> Actuals | H5: =IF(H6<=Reporting_Year,"Actuals","Forecast") -> Forecast | I5: =IF(I6<=Reporting_Year,"Actuals","Forecast") -> Forecast
E6: =RIIO_2_start_date -> 2024 | F6: =E6+1 -> 2025 | G6: =F6+1 -> 2026 | H6: =G6+1 -> 2027 | I6: =H6+1 -> 2028
E7: =RIIO_2_start_date-1&"/"&RIGHT(RIIO_2_start_date,2) -> 2023/24 | F7: =RIIO_2_start_date&"/"&RIGHT(RIIO_2_start_date+1,2) -> 2024/25 | G7: =RIIO_2_start_date+1&"/"&RIGHT(RIIO_2_start_date+2,2) -> 2025/26 | H7: =RIIO_2_start_date+2&"/"&RIGHT(RIIO_2_start_date+3,2) -> 2026/27 | I7: =RIIO_2_start_date+3&"/"&RIGHT(RIIO_2_start_date+4,2) -> 2027/28
B9: Reconciliation: Regulated Network Revenue to Accounts
B11: Allowed Revenue - per latest published PCFM
B13: Calculated revenue (as published) | C13: =IF(Licensee="NGGT (SO)","SORt* x PIt* / PI2018/19",IF(Sector="ED2","Rt* x PIt* / PI2020/21","Rt* x PIt* / PI2018/19")) -> Rt* x PIt* / PI2020/21 | D13: £m nominal | E13: 285.83079 | F13: 290.28497 | G13: 296.94587
B14: AIP adjustment term (as published)- not applicable to ED sector | C14: =IF(Licensee="NGGT (SO)","SOADJt*","ADJt*") -> ADJt* | D14: £m nominal
B15: =IF(Sector="ED2","Calculated revenue","Adjusted revenue (as published)") -> Calculated revenue | C15: =IF(Licensee="NGGT (SO)","SOADJRt*",IF(Sector="ED2"," ","ADJRt*")) | D15: £m nominal | E15: =SUM(E13:E14) -> 285.83079 | F15: =SUM(F13:F14) -> 290.28497 | G15: =SUM(G13:G14) -> 296.94587 | H15: =SUM(H13:H14) -> 0 | I15: =SUM(I13:I14) -> 0
B16: Legacy Allowed Revenue | C16: =IF(OR(Licensee="ESO",Licensee="NGGT (SO)"),"SOLARt","LARt") -> LARt | D16: £m nominal | E16: -15.476988 | F16: 19.041075 | G16: 0.71954494
B17: K Correction Factor | C17: =IF(Licensee="NGGT (SO)","SOKt","Kt") -> Kt | D17: £m nominal | E17: 0.46195207 | F17: 19.951813 | G17: -24.009796
B18: Forecasting penalty (ED only) | C18: FPt | D18: £m nominal | E18: 0 | F18: 0 | G18: 0
B19: Allowed Network Revenue | C19: =IF(Licensee="ESO","SOIARt",IF(Licensee="NGGT (SO)","SOARt","ARt")) -> ARt | D19: £m nominal | E19: =SUM(E15:E18) -> 270.81576 | F19: =SUM(F15:F18) -> 329.27786 | G19: =SUM(G15:G18) -> 273.65562 | H19: =SUM(H15:H18) -> 0 | I19: =SUM(I15:I18) -> 0
B21: (Under) / Over recovery | D21: £m nominal | E21: =IF(ISBLANK(E25),0,E25-E19) -> -18.59166 | F21: =IF(ISBLANK(F25),0,F25-F19) -> 22.17374 | G21: =IF(ISBLANK(G25),0,G25-G19) -> 6.8982504 | H21: =IF(ISBLANK(H25),0,H25-H19) -> 0 | I21: =IF(ISBLANK(I25),0,I25-I19) -> 0
B25: Collected Regulated Network Revenue (per latest PCFM) | C25: RRt | D25: £m nominal | E25: 252.2241 | F25: 351.4516 | G25: 280.55387
B27: Other Turnover Items
B28: Strategic Innovation Fund (SIF) payments received from TO | D28: £m nominal | E28: 0 | F28: 0 | G28: 0
B29: Legacy Metering Equipment charges | D29: £m nominal | E29: 0.6264 | F29: 0.5821 | G29: 0.5905353
B30: Directly Remunerated Services revenue | D30: £m nominal | E30: 28.5668 | F30: 37.8481 | G30: 46.702651
B31: Network Asset Secondary Deliverables incentive/penalty | D31: £m nominal | E31: 0 | F31: 0 | G31: 0
B32: Charging outside the Distribution Services Area (Out of Area Charges) | D32: £m nominal | E32: 0 | F32: 0 | G32: 0
B33: De Minimis Business of the licensee | D33: £m nominal | E33: 2.1512 | F33: 2.8237 | G33: 1.1338518
B34: Other consented activities | D34: £m nominal | E34: 0 | F34: 0 | G34: 0
B35: Data Services revenue | D35: £m nominal | E35: 0 | F35: 0 | G35: 0
B36: [Input description, add additional rows as required] | D36: £m nominal
B37: Total Other Turnover Items | D37: £m nominal | E37: =SUM(E28:E36) -> 31.3444 | F37: =SUM(F28:F36) -> 41.2539 | G37: =SUM(G28:G36) -> 48.427038 | H37: =SUM(H28:H36) -> 0 | I37: =SUM(I28:I36) -> 0
B39: Other adjustments - please list
B40: Statutory turnover / Regulatory cost recoveries | D40: £m nominal | E40: 0.72698448 | F40: 0.84702391 | G40: 0.95892431
B41: Statutory cost recoveries / Regulatory income | D41: £m nominal | E41: -0.46724118 | F41: -0.48048979 | G41: -0.32410812
B42: NIA and LCN Tier 2 income adjustments | D42: £m nominal | E42: -0.38660854 | F42: -0.09591936 | G42: -0.40085783
B43: Connections Contributions not treated as revenue Outside Price Control | D43: £m nominal | E43: -23.9759 | F43: -33.2715 | G43: -43.2072
B44: Amortisation of customer contributions included in Stat Accounts | D44: £m nominal | E44: 8.3463 | F44: 8.7573 | G44: 9.3126
B45: Other (including rounding) | D45: £m nominal | E45: 0.027028159 | F45: -0.11511287 | G45: 0
B46: [Input description] | D46: £m nominal
B47: [Input description] | D47: £m nominal
B48: [Input description] | D48: £m nominal
B49: [Input description] | D49: £m nominal
B50: [Input description] | D50: £m nominal
...

Sheet R3 - Totex - Reconciliation
A1: R3 - Totex & Reconciliation
A2: =Licensee -> NGED-SWALES
A3: =Reporting_Year -> 2026
D5: =IF(D6<=Reporting_Year,"Actuals","Forecast") -> Actuals | E5: =IF(E6<=Reporting_Year,"Actuals","Forecast") -> Actuals | F5: =IF(F6<=Reporting_Year,"Actuals","Forecast") -> Actuals | G5: =IF(G6<=Reporting_Year,"Actuals","Forecast") -> Forecast | H5: =IF(H6<=Reporting_Year,"Actuals","Forecast") -> Forecast
D6: ='RFPR cover'!$C$6 -> 2024 | E6: =D6+1 -> 2025 | F6: =E6+1 -> 2026 | G6: =F6+1 -> 2027 | H6: =G6+1 -> 2028 | I6: ="Cumulative to "&'RFPR cover'!$C$9 -> Cumulative to 2026 | J6: RIIO-2 period
D7: =RIIO_2_start_date-1&"/"&RIGHT(RIIO_2_start_date,2) -> 2023/24 | E7: =RIIO_2_start_date&"/"&RIGHT(RIIO_2_start_date+1,2) -> 2024/25 | F7: =RIIO_2_start_date+1&"/"&RIGHT(RIIO_2_start_date+2,2) -> 2025/26 | G7: =RIIO_2_start_date+2&"/"&RIGHT(RIIO_2_start_date+3,2) -> 2026/27 | H7: =RIIO_2_start_date+3&"/"&RIGHT(RIIO_2_start_date+4,2) -> 2027/28
B8: Totex per the latest PCFM
B9: In this section, rows 13-99 do not apply to ESO
B11: =IF(Sector="GD2","Capitalisation 1 totex (excluding repex)","Capitalisation 1 totex") -> Capitalisation 1 totex
B13: Latest Totex actuals/forecast | C13: =Data!$C$9 -> £m 20/21 | D13: 151.62549 | E13: 181.94107 | F13: 191.4654 | G13: 185.6835 | H13: 194.60761 | I13: =SUM(D13:INDEX(D13:H13,0,MATCH('RFPR cover'!$C$9,$D$6:$H$6,0))) -> 525.03195 | J13: =SUM(D13:H13) -> 905.32306
B14: Totex allowance | C14: =Data!$C$9 -> £m 20/21 | D14: 184.48339 | E14: 178.11341 | F14: 187.7085 | G14: 173.3557 | H14: 167.61393 | I14: =SUM(D14:INDEX(D14:H14,0,MATCH('RFPR cover'!$C$9,$D$6:$H$6,0))) -> 550.3053 | J14: =SUM(D14:H14) -> 891.27493
B15: Totex out(under)performance | C15: =Data!$C$9 -> £m 20/21 | D15: =D14-D13 -> 32.857895 | E15: =E14-E13 -> -3.827653 | F15: =F14-F13 -> -3.7568983 | G15: =G14-G13 -> -12.327798 | H15: =H14-H13 -> -26.993676 | I15: =I14-I13 -> 25.273344 | J15: =J14-J13 -> -14.04813
B17: Funding Adjustment Rate (often referred to as 'sharing factor') | C17: % | D17: =INDEX(Data!$C$63:$C$91,MATCH('RFPR cover'!$C$7,Data!$B$63:$B$91,0),0) -> 0.5 | E17: =INDEX(Data!$C$63:$C$91,MATCH('RFPR cover'!$C$7,Data!$B$63:$B$91,0),0) -> 0.5 | F17: =INDEX(Data!$C$63:$C$91,MATCH('RFPR cover'!$C$7,Data!$B$63:$B$91,0),0) -> 0.5 | G17: =INDEX(Data!$C$63:$C$91,MATCH('RFPR cover'!$C$7,Data!$B$63:$B$91,0),0) -> 0.5 | H17: =INDEX(Data!$C$63:$C$91,MATCH('RFPR cover'!$C$7,Data!$B$63:$B$91,0),0) -> 0.5
B19: Customer share of out(under) performance | C19: =Data!$C$9 -> £m 20/21 | D19: =D15*D17 -> 16.428948 | E19: =E15*E17 -> -1.9138265 | F19: =F15*F17 -> -1.8784491 | G19: =G15*G17 -> -6.1638992 | H19: =H15*H17 -> -13.496838 | I19: =SUM(D19:INDEX(D19:H19,0,MATCH('RFPR cover'!$C$9,$D$6:$H$6,0))) -> 12.636672 | J19: =SUM(D19:H19) -> -7.0240652
B20: NWO share of performance | C20: =Data!$C$9 -> £m 20/21 | D20: =D15*(1-D17) -> 16.428948 | E20: =E15*(1-E17) -> -1.9138265 | F20: =F15*(1-F17) -> -1.8784491 | G20: =G15*(1-G17) -> -6.1638992 | H20: =H15*(1-H17) -> -13.496838 | I20: =SUM(D20:INDEX(D20:H20,0,MATCH('RFPR cover'!$C$9,$D$6:$H$6,0))) -> 12.636672 | J20: =SUM(D20:H20) -> -7.0240652
B22: Enduring Value adjustments to Totex performance
B23: [Cross Price Control] | C23: =Data!$C$9 -> £m 20/21 | D23: -33.90681 | E23: 1.7756667 | F23: -1.9234044 | G23: 8.844445 | H23: 25.210103 | I23: =SUM(D23:INDEX(D23:H23,0,MATCH('RFPR cover'!$C$9,$D$6:$H$6,0))) -> -34.054548 | J23: =SUM(D23:H23) -> 0
B24: [other Enduring Value adjustment] | C24: =Data!$C$9 -> £m 20/21 | I24: =SUM(D24:INDEX(D24:H24,0,MATCH('RFPR cover'!$C$9,$D$6:$H$6,0))) -> 0 | J24: =SUM(D24:H24) -> 0
B25: [other Enduring Value adjustment] | C25: =Data!$C$9 -> £m 20/21 | I25: =SUM(D25:INDEX(D25:H25,0,MATCH('RFPR cover'!$C$9,$D$6:$H$6,0))) -> 0 | J25: =SUM(D25:H25) -> 0
B26: [other Enduring Value adjustment] | C26: =Data!$C$9 -> £m 20/21 | I26: =SUM(D26:INDEX(D26:H26,0,MATCH('RFPR cover'!$C$9,$D$6:$H$6,0))) -> 0 | J26: =SUM(D26:H26) -> 0
B27: [other Enduring Value adjustment] | C27: =Data!$C$9 -> £m 20/21 | I27: =SUM(D27:INDEX(D27:H27,0,MATCH('RFPR cover'!$C$9,$D$6:$H$6,0))) -> 0 | J27: =SUM(D27:H27) -> 0
B28: [other Enduring Value adjustment] | C28: =Data!$C$9 -> £m 20/21 | I28: =SUM(D28:INDEX(D28:H28,0,MATCH('RFPR cover'!$C$9,$D$6:$H$6,0))) -> 0 | J28: =SUM(D28:H28) -> 0
B29: [other Enduring Value adjustment] | C29: =Data!$C$9 -> £m 20/21 | I29: =SUM(D29:INDEX(D29:H29,0,MATCH('RFPR cover'!$C$9,$D$6:$H$6,0))) -> 0 | J29: =SUM(D29:H29) -> 0
B30: Total enduring value adjustments | C30: =Data!$C$9 -> £m 20/21 | D30: =SUM(D23:D29) -> -33.90681 | E30: =SUM(E23:E29) -> 1.7756667 | F30: =SUM(F23:F29) -> -1.9234044 | G30: =SUM(G23:G29) -> 8.844445 | H30: =SUM(H23:H29) -> 25.210103 | I30: =SUM(D30:INDEX(D30:H30,0,MATCH('RFPR cover'!$C$9,$D$6:$H$6,0))) -> -34.054548 | J30: =SUM(D30:H30) -> 0
B32: Enduring Value adjustments (UIOLI)
B33: [Cross Price Control] | C33: =Data!$C$9 -> £m 20/21 | I33: =SUM(D33:INDEX(D33:H33,0,MATCH('RFPR cover'!$C$9,$D$6:$H$6,0))) -> 0 | J33: =SUM(D33:H33) -> 0
B34: [other Enduring Value adjustment] | C34: =Data!$C$9 -> £m 20/21 | I34: =SUM(D34:INDEX(D34:H34,0,MATCH('RFPR cover'!$C$9,$D$6:$H$6,0))) -> 0 | J34: =SUM(D34:H34) -> 0
B35: Total enduring value adjustments | C35: =Data!$C$9 -> £m 20/21 | D35: =SUM(D33:D34) -> 0 | E35: =SUM(E33:E34) -> 0 | F35: =SUM(F33:F34) -> 0 | G35: =SUM(G33:G34) -> 0 | H35: =SUM(H33:H34) -> 0 | I35: =SUM(D35:INDEX(D35:H35,0,MATCH('RFPR cover'!$C$9,$D$6:$H$6,0))) -> 0 | J35: =SUM(D35:H35) -> 0
B37: Enduring Value: Customer share of performance | C37: =Data!$C$9 -> £m 20/21 | D37: =D30*D17 -> -16.953405 | E37: =E30*E17 -> 0.88783334 | F37: =F30*F17 -> -0.96170219 | G37: =G30*G17 -> 4.4222225 | H37: =H30*H17 -> 12.605052 | I37: =SUM(D37:INDEX(D37:H37,0,MATCH('RFPR cover'!$C$9,$D$6:$H$6,0))) -> -17.027274 | J37: =SUM(D37:H37) -> 0
B38: Enduring Value: NWO share of performance | C38: =Data!$C$9 -> £m 20/21 | D38: =D30*(1-D17)+D35 -> -16.953405 | E38: =E30*(1-E17)+E35 -> 0.88783334 | F38: =F30*(1-F17)+F35 -> -0.96170219 | G38: =G30*(1-G17)+G35 -> 4.4222225 | H38: =H30*(1-H17)+H35 -> 12.605052 | I38: =SUM(D38:INDEX(D38:H38,0,MATCH('RFPR cover'!$C$9,$D$6:$H$6,0))) -> -17.027274 | J38: =SUM(D38:H38) -> 0
B40: Total out(under) performance (including enduring value adjustments)
B41: Customer share of out(under) performance | C41: =Data!$C$9 -> £m 20/21 | D41: =D19+D37 -> -0.52445756 | E41: =E19+E37 -> -1.0259931 | F41: =F19+F37 -> -2.8401513 | G41: =G19+G37 -> -1.7416767 | H41: =H19+H37 -> -0.89178642 | I41: =SUM(D41:INDEX(D41:H41,0,MATCH('RFPR cover'!$C$9,$D$6:$H$6,0))) -> -4.390602 | J41: =SUM(D41:H41) -> -7.0240652
B42: NWO share of performance | C42: =Data!$C$9 -> £m 20/21 | D42: =D20+D38 -> -0.52445756 | E42: =E20+E38 -> -1.0259931 | F42: =F20+F38 -> -2.8401513 | G42: =G20+G38 -> -1.7416767 | H42: =H20+H38 -> -0.89178642 | I42: =SUM(D42:INDEX(D42:H42,0,MATCH('RFPR cover'!$C$9,$D$6:$H$6,0))) -> -4.390602 | J42: =SUM(D42:H42) -> -7.0240652
B43: Total out (under) performance | C43: =Data!$C$9 -> £m 20/21 | D43: =SUM(D41:D42) -> -1.0489151 | E43: =SUM(E41:E42) -> -2.0519863 | F43: =SUM(F41:F42) -> -5.6803027 | G43: =SUM(G41:G42) -> -3.4833535 | H43: =SUM(H41:H42) -> -1.7835728 | I43: =SUM(D43:INDEX(D43:H43,0,MATCH('RFPR cover'!$C$9,$D$6:$H$6,0))) -> -8.7812041 | J43: =SUM(D43:H43) -> -14.04813
B45: =IF(Sector="GD2","Capitalisation 2 totex (excluding repex)","Capitalisation 2 totex") -> Capitalisation 2 totex
B47: Latest Totex actuals/forecast | C47: =Data!$C$9 -> £m 20/21 | D47: 6.3755763 | E47: 9.9806453 | F47: 11.345725 | G47: 20.417508 | H47: 23.138267 | I47: =SUM(D47:INDEX(D47:H47,0,MATCH('RFPR cover'!$C$9,$D$6:$H$6,0))) -> 27.701947 | J47: =SUM(D47:H47) -> 71.257721
B48: Totex allowance | C48: =Data!$C$9 -> £m 20/21 | D48: 5.5240129 | E48: 9.7241466 | F48: 14.586562 | G48: 21.421824 | H48: 22.302735 | I48: =SUM(D48:INDEX(D48:H48,0,MATCH('RFPR cover'!$C$9,$D$6:$H$6,0))) -> 29.834722 | J48: =SUM(D48:H48) -> 73.55928
B49: Totex out(under)performance | C49: =Data!$C$9 -> £m 20/21 | D49: =D48-D47 -> -0.85156341 | E49: =E48-E47 -> -0.25649866 | F49: =F48-F47 -> 3.240837 | G49: =G48-G47 -> 1.0043162 | H49: =H48-H47 -> -0.83553192 | I49: =I48-I47 -> 2.132775 | J49: =J48-J47 -> 2.3015592
B51: Funding Adjustment Rate (often referred to as 'sharing factor') | C51: % | D51: =INDEX(Data!$C$63:$C$91,MATCH('RFPR cover'!$C$7,Data!$B$63:$B$91,0),0) -> 0.5 | E51: =INDEX(Data!$C$63:$C$91,MATCH('RFPR cover'!$C$7,Data!$B$63:$B$91,0),0) -> 0.5 | F51: =INDEX(Data!$C$63:$C$91,MATCH('RFPR cover'!$C$7,Data!$B$63:$B$91,0),0) -> 0.5 | G51: =INDEX(Data!$C$63:$C$91,MATCH('RFPR cover'!$C$7,Data!$B$63:$B$91,0),0) -> 0.5 | H51: =INDEX(Data!$C$63:$C$91,MATCH('RFPR cover'!$C$7,Data!$B$63:$B$91,0),0) -> 0.5
B53: Customer share of out(under) performance | C53: =Data!$C$9 -> £m 20/21 | D53: =D49*D51 -> -0.4257817 | E53: =E49*E51 -> -0.12824933 | F53: =F49*F51 -> 1.6204185 | G53: =G49*G51 -> 0.50215808 | H53: =H49*H51 -> -0.41776596 | I53: =SUM(D53:INDEX(D53:H53,0,MATCH('RFPR cover'!$C$9,$D$6:$H$6,0))) -> 1.0663875 | J53: =SUM(D53:H53) -> 1.1507796
...

Sheet R4 - Incentives and Other Rev
A1: R4 - Incentives and Other Revenue
A2: =Licensee -> NGED-SWALES
A3: =Reporting_Year -> 2026
D5: =IF(D6<=Reporting_Year,"Actuals","Forecast") -> Actuals | E5: =IF(E6<=Reporting_Year,"Actuals","Forecast") -> Actuals | F5: =IF(F6<=Reporting_Year,"Actuals","Forecast") -> Actuals | G5: =IF(G6<=Reporting_Year,"Actuals","Forecast") -> Forecast | H5: =IF(H6<=Reporting_Year,"Actuals","Forecast") -> Forecast | I5: =IF(I6<=Reporting_Year,"Actuals","Forecast") -> Forecast
D6: ='RFPR cover'!$C$6 -> 2024 | E6: =D6+1 -> 2025 | F6: =E6+1 -> 2026 | G6: =F6+1 -> 2027 | H6: =G6+1 -> 2028 | I6: ="Cumulative to "&'RFPR cover'!$C$9 -> Cumulative to 2026 | J6: RIIO-2 period
D7: =RIIO_2_start_date-1&"/"&RIGHT(RIIO_2_start_date,2) -> 2023/24 | E7: =RIIO_2_start_date&"/"&RIGHT(RIIO_2_start_date+1,2) -> 2024/25 | F7: =RIIO_2_start_date+1&"/"&RIGHT(RIIO_2_start_date+2,2) -> 2025/26 | G7: =RIIO_2_start_date+2&"/"&RIGHT(RIIO_2_start_date+3,2) -> 2026/27 | H7: =RIIO_2_start_date+3&"/"&RIGHT(RIIO_2_start_date+4,2) -> 2027/28
B8: Output Incentives (Post Tax)
A12: a | B12: Business Plan Incentive (per latest PCFM company-specific Input Sheet) | C12: =Data!$C$9 -> £m 20/21 | D12: =INDEX(Data!$C$98:$I$126,MATCH($A$2,Data!$B$98:$B$126,0),MATCH(D$6,Data!$C$97:$I$97)) -> 0.69 | E12: =INDEX(Data!$C$98:$I$126,MATCH($A$2,Data!$B$98:$B$126,0),MATCH(E$6,Data!$C$97:$I$97)) -> 0 | F12: =INDEX(Data!$C$98:$I$126,MATCH($A$2,Data!$B$98:$B$126,0),MATCH(F$6,Data!$C$97:$I$97)) -> 0 | G12: =INDEX(Data!$C$98:$I$126,MATCH($A$2,Data!$B$98:$B$126,0),MATCH(G$6,Data!$C$97:$I$97)) -> 0 | H12: =INDEX(Data!$C$98:$I$126,MATCH($A$2,Data!$B$98:$B$126,0),MATCH(H$6,Data!$C$97:$I$97)) -> 0 | I12: =SUM(D12:INDEX(D12:H12,0,MATCH('RFPR cover'!$C$9,$D$6:$H$6,0))) -> 0.69 | J12: =SUM(D12:H12) -> 0.69
B13: Output Incentives (per latest PCFM company-specific Input Sheet)
A14: b | B14: =Data!B132 -> Time to connect ODI | C14: =Data!$C$9 -> £m 20/21 | D14: 0.3415528 | E14: 0.71401035 | F14: 0.86069105 | G14: 0.84645838 | H14: 0.84645838 | I14: =SUM(D14:INDEX(D14:H14,0,MATCH('RFPR cover'!$C$9,$D$6:$H$6,0))) -> 1.9162542 | J14: =SUM(D14:H14) -> 3.609171
A15: c | B15: =Data!B133 -> Broad Measure of Customer Service ODI | C15: =Data!$C$9 -> £m 20/21 | D15: 0.44757084 | E15: 0.081602211 | F15: 0.70719635 | G15: 1.2469917 | H15: 1.5469917 | I15: =SUM(D15:INDEX(D15:H15,0,MATCH('RFPR cover'!$C$9,$D$6:$H$6,0))) -> 1.2363694 | J15: =SUM(D15:H15) -> 4.0303529
A16: d | B16: =Data!B134 -> Interruptions incentive scheme ODI | C16: =Data!$C$9 -> £m 20/21 | D16: -0.61616146 | E16: -0.60987842 | F16: -1.833074 | G16: -1.0200401 | H16: -1.0200401 | I16: =SUM(D16:INDEX(D16:H16,0,MATCH('RFPR cover'!$C$9,$D$6:$H$6,0))) -> -3.0591138 | J16: =SUM(D16:H16) -> -5.0991939
A17: e | B17: =Data!B135 -> Major connections ODI | C17: =Data!$C$9 -> £m 20/21 | D17: 0 | E17: 0 | F17: 0 | G17: 0 | H17: 0 | I17: =SUM(D17:INDEX(D17:H17,0,MATCH('RFPR cover'!$C$9,$D$6:$H$6,0))) -> 0 | J17: =SUM(D17:H17) -> 0
A18: f | B18: =Data!B136 -> Consumer Vulnerability ODI | C18: =Data!$C$9 -> £m 20/21 | D18: 0 | E18: 0.32122095 | F18: 0 | G18: 0 | H18: 0.95419899 | I18: =SUM(D18:INDEX(D18:H18,0,MATCH('RFPR cover'!$C$9,$D$6:$H$6,0))) -> 0.32122095 | J18: =SUM(D18:H18) -> 1.2754199
